BEGIN:VCALENDAR
VERSION:2.0
PRODID:-//ChamberMaster//Event Calendar 2.0//EN
METHOD:PUBLISH
X-PUBLISHED-TTL:P3D
REFRESH-INTERVAL:P3D
CALSCALE:GREGORIAN
BEGIN:VEVENT
DTSTART:20220911T190000Z
DTEND:20220911T193000Z
X-MICROSOFT-CDO-ALLDAYEVENT:FALSE
SUMMARY:Storytime: We Celebrate Grandparents
DESCRIPTION:Children and their grandparents are invited to join us for stories and crafts in this special storytime.
X-ALT-DESC;FMTTYPE=text/html:<div>\n<p>Children and their grandparents are invited to join us for stories and crafts in this special storytime.</p>\n</div>\n
LOCATION:Lake Bluff Public Library 123 E. Scranton Ave. Lake Bluff\, IL. 60044
UID:e.1126.22418
SEQUENCE:3
DTSTAMP:20260425T025836Z
URL:https://business.lflbchamber.com/events/details/storytime-we-celebrate-grandparents-22418
END:VEVENT

END:VCALENDAR
