BEGIN:VCALENDAR
VERSION:2.0
PRODID:-//ChamberMaster//Event Calendar 2.0//EN
METHOD:PUBLISH
X-PUBLISHED-TTL:P3D
REFRESH-INTERVAL:P3D
CALSCALE:GREGORIAN
BEGIN:VEVENT
DTSTART;VALUE=DATE:20210703
DTEND;VALUE=DATE:20210704
TRANSP:TRANSPARENT
X-MICROSOFT-CDO-ALLDAYEVENT:TRUE
SUMMARY:Storywalk Begins!
DESCRIPTION:Take a walk with the Lake Bluff Library. We are partnering with Lake Bluff School District 65 and the Lake Bluff Park District to bring you a StoryWalk  experience featuring Am I Yours? by Alex Latimer.
X-ALT-DESC;FMTTYPE=text/html:<span style="background-color:rgb(255\, 255\, 255)\; color:rgb(51\, 51\, 51)\; font-family:arial\,helvetica\,verdana\; font-size:12px">Take a walk with the Lake Bluff Library. We are partnering with Lake Bluff School District 65 and the Lake Bluff Park District to bring you a StoryWalk&reg\; experience featuring</span><u>&nbsp\;Am I Yours?</u><span style="background-color:rgb(255\, 255\, 255)\; color:rgb(51\, 51\, 51)\; font-family:arial\,helvetica\,verdana\; font-size:12px">&nbsp\;by Alex Latimer.</span>
LOCATION:Artesian Park - Lake Bluff\, IL
UID:e.1126.20387
SEQUENCE:3
DTSTAMP:20260424T004440Z
URL:https://business.lflbchamber.com/events/details/storywalk-begins-07-03-2021-20387
END:VEVENT

END:VCALENDAR
