BEGIN:VCALENDAR
VERSION:2.0
PRODID:-//ChamberMaster//Event Calendar 2.0//EN
METHOD:PUBLISH
X-PUBLISHED-TTL:P3D
REFRESH-INTERVAL:P3D
CALSCALE:GREGORIAN
BEGIN:VEVENT
DTSTART:20200329T200000Z
DTEND:20200329T210000Z
X-MICROSOFT-CDO-ALLDAYEVENT:FALSE
SUMMARY:Strength Through Jiu-Jitsu
DESCRIPTION:Students will learn the fundamentals of Brazilian Jiu-Jitsu\; sport and self-defense. Jiu-Jitsu is amazing for fitness\, sport\, self-confidence\, weight-loss\, stress-relief\, self defense and fun! It helps you feel empowered in positions that are typically more vulnerable. Bring yoga mat!
X-ALT-DESC;FMTTYPE=text/html:Students will learn the fundamentals of Brazilian Jiu-Jitsu\; sport and self-defense. Jiu-Jitsu is amazing for fitness\, sport\, self-confidence\, weight-loss\, stress-relief\, self defense and fun! It helps you feel empowered in positions that are typically more vulnerable. Bring yoga mat!
LOCATION:Gorton Community Center
UID:e.1126.18945
SEQUENCE:3
DTSTAMP:20260420T121850Z
URL:https://business.lflbchamber.com/events/details/strength-through-jiu-jitsu-03-29-2020-18945
END:VEVENT

END:VCALENDAR
