BEGIN:VCALENDAR
VERSION:2.0
PRODID:-//ChamberMaster//Event Calendar 2.0//EN
METHOD:PUBLISH
X-PUBLISHED-TTL:P3D
REFRESH-INTERVAL:P3D
CALSCALE:GREGORIAN
BEGIN:VEVENT
DTSTART:20210330T140000Z
DTEND:20210330T160000Z
X-MICROSOFT-CDO-ALLDAYEVENT:FALSE
SUMMARY:Stress Bustin’ Strategies
DESCRIPTION:Not all stress is bad! However\, learning to cope with and overcome stress is vital for everyone in today's hectic world. Stress can reduce productivity\, focus\, performance and more. While not all stress is bad for us\, without carefully managing our responses - or finding ways to reduce or prevent it to begin with - it can easily have adverse effects on our health and wellbeing. Knowing how to cope with and overcome stress is a vital skill for everyone in today's fast-paced and hectic world.
X-ALT-DESC;FMTTYPE=text/html:Not all stress is bad! However\, learning to cope with and overcome stress is vital for everyone in today&#39\;s hectic world. Stress can reduce productivity\, focus\, performance and more. While not all stress is bad for us\, without carefully managing our responses - or finding ways to reduce or prevent it to begin with - it can easily have adverse effects on our health and wellbeing. Knowing how to cope with and overcome stress is a vital skill for everyone in today&#39\;s fast-paced and hectic world.
LOCATION:Live Zoom
UID:e.1126.19938
SEQUENCE:3
DTSTAMP:20260425T214500Z
URL:https://business.lflbchamber.com/events/details/stress-bustin-strategies-19938
END:VEVENT

END:VCALENDAR
