BEGIN:VCALENDAR
VERSION:2.0
PRODID:-//ChamberMaster//Event Calendar 2.0//EN
METHOD:PUBLISH
X-PUBLISHED-TTL:P3D
REFRESH-INTERVAL:P3D
CALSCALE:GREGORIAN
BEGIN:VEVENT
DTSTART:20190424T230000Z
DTEND:20190425T003000Z
X-MICROSOFT-CDO-ALLDAYEVENT:FALSE
SUMMARY:Stress\, Hormones & Belly Fat!
DESCRIPTION:Heal n Cure Wellness Seminar During this seminar you'll discover: 1. How hormone imbalances\, whether male or female\, can distort your midsection into a large belly that won't go away even with diet and exercise! 2. How hormone imbalances can affect your sleep cycles\, food cravings\, and energy. 3. How to identify Thyroid\, Estrogen\, Cortisol\, and Insulin hormone imbalances and what to do to support natural healing. And much more  DINNER IS ON US! CALL TO REGISTER NOW FOR THIS UPCOMING SEMINAR! This event is open to women & men. Only 20 seats available. RSVP is required for this special presentation\, phone 847-665-9877 or healncure.com/rsvp
X-ALT-DESC;FMTTYPE=text/html:Heal n Cure Wellness Seminar During this seminar you&rsquo\;ll discover: 1. How hormone imbalances\, whether male or female\, can distort your midsection into a large belly that won&rsquo\;t go away even with diet and exercise! 2. How hormone imbalances can affect your sleep cycles\, food cravings\, and energy. 3. How to identify Thyroid\, Estrogen\, Cortisol\, and Insulin hormone imbalances and what to do to support natural healing. And much more&hellip\; DINNER IS ON US! CALL TO REGISTER NOW FOR THIS UPCOMING SEMINAR! This event is open to women &amp\; men. Only 20 seats available. RSVP is required for this special presentation\, phone 847-665-9877 or healncure.com/rsvp
LOCATION:Gorton Community Center 400 E. Illinois Road\, Lake Forest\, IL 60045
UID:e.1126.17679
SEQUENCE:3
DTSTAMP:20260424T100609Z
URL:https://business.lflbchamber.com/events/details/stress-hormones-belly-fat-04-24-2019-17679
END:VEVENT

END:VCALENDAR
