BEGIN:VCALENDAR
VERSION:2.0
PRODID:-//ChamberMaster//Event Calendar 2.0//EN
METHOD:PUBLISH
X-PUBLISHED-TTL:P3D
REFRESH-INTERVAL:P3D
CALSCALE:GREGORIAN
BEGIN:VEVENT
DTSTART:20190410T230000Z
DTEND:20190411T003000Z
X-MICROSOFT-CDO-ALLDAYEVENT:FALSE
SUMMARY:Stress\, Hormones & Belly Fat! Project ‘Selfy’ Wellness: Good Gut/Bad Gut – How to tame the fire in your belly
DESCRIPTION:We have more nerves in our gut than in our brain!! That is a scary fact\, but an even more disturbing fact is how many people suffer with digestive issues\, irritable bowel\, constipation\, diarrhea and daily stomach aches. Digestive issues can be a stinking topic and many people avoid bringing it up and suffer in silence. Suffer no more\, we will shine a light on this subject looking at causes and solutions that you can easily do. No more planning your errands around where there are available bathrooms\, learn how you can calm the fire of Inflammation in your belly. Join Dr. Julie McLaughlin for this informative talk!
X-ALT-DESC;FMTTYPE=text/html:We have more nerves in our gut than in our brain!! That is a scary fact\, but an even more disturbing fact is how many people suffer with digestive issues\, irritable bowel\, constipation\, diarrhea and daily stomach aches. Digestive issues can be a stinking topic and many people avoid bringing it up and suffer in silence. Suffer no more\, we will shine a light on this subject looking at causes and solutions that you can easily do. No more planning your errands around where there are available bathrooms\, learn how you can calm the fire of Inflammation in your belly. Join Dr. Julie McLaughlin for this informative talk!
LOCATION:Gorton Community Center 400 E. Illinois Road\, Lake Forest\, IL 60045
UID:e.1126.17681
SEQUENCE:3
DTSTAMP:20260424T085536Z
URL:https://business.lflbchamber.com/events/details/stress-hormones-belly-fat-project-selfy-wellness-good-gut-bad-gut-how-to-tame-the-fire-in-your-belly-17681
END:VEVENT

END:VCALENDAR
