BEGIN:VCALENDAR
VERSION:2.0
PRODID:-//ChamberMaster//Event Calendar 2.0//EN
METHOD:PUBLISH
X-PUBLISHED-TTL:P3D
REFRESH-INTERVAL:P3D
CALSCALE:GREGORIAN
BEGIN:VEVENT
DTSTART:20250612T150000Z
DTEND:20250612T163000Z
X-MICROSOFT-CDO-ALLDAYEVENT:FALSE
SUMMARY:Succession Planning
DESCRIPTION:Learn strategic steps for effective succession planning and avoid common pitfalls when preparing for business transition or exit.
X-ALT-DESC;FMTTYPE=text/html:<!--StartFragment--><span data-olk-copy-source="MessageBody" style="margin: 0px\;">Learn strategic steps for effective succession planning and avoid common pitfalls when preparing for business transition or exit.</span><!--EndFragment-->
LOCATION:Zoom
UID:e.1126.31370
SEQUENCE:3
DTSTAMP:20260424T080618Z
URL:https://business.lflbchamber.com/events/details/succession-planning-31370
END:VEVENT

END:VCALENDAR
