BEGIN:VCALENDAR
VERSION:2.0
PRODID:-//ChamberMaster//Event Calendar 2.0//EN
METHOD:PUBLISH
X-PUBLISHED-TTL:P3D
REFRESH-INTERVAL:P3D
CALSCALE:GREGORIAN
BEGIN:VEVENT
DTSTART;VALUE=DATE:20250606
DTEND;VALUE=DATE:20250607
TRANSP:TRANSPARENT
X-MICROSOFT-CDO-ALLDAYEVENT:TRUE
SUMMARY:Summer Reading Club Begins!
DESCRIPTION:Ready to Level Up?\n\nJoin this year's Summer Reading Club at the Lake Bluff Library! Log books or complete activities to unlock rewards and win prizes. Visit LakeBluffLibrary.org/SRC to track your progress from home and power up your summer adventure!\n\nVisit Summer Reading Club for extra printable logs\, instructions for Beanstack\, a list of related programs\, and more.\n\nAdult / Teen Summer Reading Clubs: June 6th   August 15th\n\nChildren's Summer Reading Club: June 6th- July 31st\n\nThank you to the Friends of the Lake Bluff Public Library for their generous sponsorship of this year's Summer Reading Club!
X-ALT-DESC;FMTTYPE=text/html:<p>Ready to Level Up?</p>\n\n<p>Join this year&rsquo\;s Summer Reading Club at the Lake Bluff Library! Log books or complete activities to unlock rewards and win prizes. Visit LakeBluffLibrary.org/SRC to track your progress from home and power up your summer adventure!</p>\n\n<p>Visit&nbsp\;<a href="http://lakeblufflibrary.org/SRC" style="box-sizing: border-box\; background-color: transparent\; color: rgb(41\, 84\, 209)\; text-decoration-line: none\;">Summer Reading Club</a>&nbsp\;for extra printable logs\, instructions for&nbsp\;<a href="https://lakeblufflibrary.beanstack.com/" style="box-sizing: border-box\; background-color: transparent\; color: rgb(41\, 84\, 209)\; text-decoration-line: none\;">Beanstack</a>\, a list of related programs\, and more.</p>\n\n<p><strong>Adult / Teen Summer Reading Clubs: June 6th &ndash\; August 15th</strong></p>\n\n<p><strong>Children&rsquo\;s Summer Reading Club: June 6th- July 31st</strong></p>\n\n<p><em>Thank you to&nbsp\;the Friends of the Lake Bluff Public Library for their generous sponsorship of this year&#39\;s Summer Reading Club!</em></p>\n
LOCATION:Lake Bluff Public Library 123 E. Scranton Ave. Lake Bluff\, IL. 60044
UID:e.1126.30981
SEQUENCE:3
DTSTAMP:20260424T084013Z
URL:https://business.lflbchamber.com/events/details/summer-reading-club-begins-06-06-2025-30981
END:VEVENT

END:VCALENDAR
