BEGIN:VCALENDAR
VERSION:2.0
PRODID:-//ChamberMaster//Event Calendar 2.0//EN
METHOD:PUBLISH
X-PUBLISHED-TTL:P3D
REFRESH-INTERVAL:P3D
CALSCALE:GREGORIAN
BEGIN:VEVENT
DTSTART:20190608T150000Z
DTEND:20190608T220000Z
X-MICROSOFT-CDO-ALLDAYEVENT:FALSE
SUMMARY:Summer Reading Club Begins!
DESCRIPTION:We invite you to journey to a magical place full of adventure and wonder: the Lake Bluff Public Library! This summer\, adults\, teens\, and children can read and earn prizes by participating in one of our Summer Reading Clubs. Please stop by the library to pick up your reading log!
X-ALT-DESC;FMTTYPE=text/html:We invite you to journey to a magical place full of adventure and wonder: the Lake Bluff Public Library! This summer\, adults\, teens\, and children can read and earn prizes by participating in one of our Summer Reading Clubs. Please stop by the library to pick up your reading log!
LOCATION:Lake Bluff Public Library 123 E. Scranton Ave.\, Lake Bluff\, IL 60044
UID:e.1126.17952
SEQUENCE:3
DTSTAMP:20260424T071437Z
URL:https://business.lflbchamber.com/events/details/summer-reading-club-begins-17952
END:VEVENT

END:VCALENDAR
