BEGIN:VCALENDAR
VERSION:2.0
PRODID:-//ChamberMaster//Event Calendar 2.0//EN
METHOD:PUBLISH
X-PUBLISHED-TTL:P3D
REFRESH-INTERVAL:P3D
CALSCALE:GREGORIAN
BEGIN:VEVENT
DTSTART:20250630T150000Z
DTEND:20250630T230000Z
X-MICROSOFT-CDO-ALLDAYEVENT:FALSE
SUMMARY:Summer Reading Club - Character Hunt Begins
DESCRIPTION:Search the Youth Services Department for all the hidden characters. Complete the challenge and submit your entry for a chance to win an epic prize!\n\nCharacter Hunt is for ages 2 - 12. Children under the age of 8 must have an adult with them during the event.
X-ALT-DESC;FMTTYPE=text/html:<p>Search the Youth Services Department for all the hidden characters. Complete the challenge and submit your entry for a chance to win an epic prize!</p>\n\n<p><strong>Character Hunt is for ages 2 - 12</strong>.&nbsp\;<strong>Children under the age of 8 must have an adult with them during the event.</strong></p>\n
LOCATION:Lake Bluff Public Library 123 E. Scranton Ave. Lake Bluff\, IL. 60044
UID:e.1126.31011
SEQUENCE:3
DTSTAMP:20260424T083929Z
URL:https://business.lflbchamber.com/events/details/summer-reading-club-character-hunt-begins-31011
END:VEVENT

END:VCALENDAR
