BEGIN:VCALENDAR
VERSION:2.0
PRODID:-//ChamberMaster//Event Calendar 2.0//EN
METHOD:PUBLISH
X-PUBLISHED-TTL:P3D
REFRESH-INTERVAL:P3D
CALSCALE:GREGORIAN
BEGIN:VEVENT
DTSTART:20240610T150000Z
DTEND:20240611T020000Z
X-MICROSOFT-CDO-ALLDAYEVENT:FALSE
SUMMARY:Summer Reading Club Contest #1 Begins
DESCRIPTION:Stop by the Youth Services Desk at the Library and guess how many items are in the jar. The winner will receive a free Lego City Recycling Truck. Limit one guess per day.\n\nSummer Reading Club's Contest #1 is for ages 2 +
X-ALT-DESC;FMTTYPE=text/html:<p>Stop by the Youth Services Desk at the Library and guess how many items are in the jar. The winner will receive a free Lego City Recycling Truck. Limit one guess per day.</p>\n\n<p>Summer Reading Club's Contest #1 is for ages 2 +</p>\n
LOCATION:Lake Bluff Public Library 123 E. Scranton Ave. Lake Bluff\, IL. 60044
UID:e.1126.27088
SEQUENCE:3
DTSTAMP:20260424T010755Z
URL:https://business.lflbchamber.com/events/details/summer-reading-club-contest-1-begins-06-10-2024-27088
END:VEVENT

END:VCALENDAR
