BEGIN:VCALENDAR
VERSION:2.0
PRODID:-//ChamberMaster//Event Calendar 2.0//EN
METHOD:PUBLISH
X-PUBLISHED-TTL:P3D
REFRESH-INTERVAL:P3D
CALSCALE:GREGORIAN
BEGIN:VEVENT
DTSTART:20250627T150000Z
DTEND:20250627T230000Z
X-MICROSOFT-CDO-ALLDAYEVENT:FALSE
SUMMARY:Summer Reading Club - Jar Challenge Ends
DESCRIPTION:Guess how many items are in the jar at the Youth Services Desk for your chance to win a prize. You can submit one guess per day make it count!\n\nOur Summer Reading Club Jar Challenge is for ages 2 - 12. Children under the age of 8 must have an adult with them during the event.\n\nOur Jar Challenge ends on Friday June 27th.
X-ALT-DESC;FMTTYPE=text/html:<p>Guess how many items are in the jar at the Youth Services Desk for your chance to win a prize. You can submit one guess per day&mdash\;make it count!</p>\n\n<p><strong>Our Summer Reading Club Jar Challenge is for ages 2 - 12</strong>.&nbsp\;<strong>Children under the age of 8 must have an adult with them during the event.</strong></p>\n\n<p>Our Jar Challenge ends on Friday June 27th.</p>\n
LOCATION:Lake Bluff Public Library 123 E. Scranton Ave. Lake Bluff\, IL. 60044
UID:e.1126.31349
SEQUENCE:3
DTSTAMP:20260424T080824Z
URL:https://business.lflbchamber.com/events/details/summer-reading-club-jar-challenge-ends-31349
END:VEVENT

END:VCALENDAR
