BEGIN:VCALENDAR
VERSION:2.0
PRODID:-//ChamberMaster//Event Calendar 2.0//EN
METHOD:PUBLISH
X-PUBLISHED-TTL:P3D
REFRESH-INTERVAL:P3D
CALSCALE:GREGORIAN
BEGIN:VEVENT
DTSTART:20250606T150000Z
DTEND:20250606T170000Z
X-MICROSOFT-CDO-ALLDAYEVENT:FALSE
SUMMARY:Summer Reading Club Kick-Off
DESCRIPTION:Kick-off your Summer Reading adventure with us outside (weather permitting)! The first 100 kids to sign up will score a special bonus treat as they start their journey!\n\nJoin this year's Summer Reading Club at the Lake Bluff Library!\n\nSummer Reading Club Kick-Off is for all ages. Children under the age of 8 must have an adult with them during the event.
X-ALT-DESC;FMTTYPE=text/html:<p>Kick-off your Summer Reading adventure with us outside (weather permitting)! The first 100 kids to sign up will score a special bonus treat as they start their journey!</p>\n\n<p>Join this year&rsquo\;s&nbsp\;<a href="https://www.lakeblufflibrary.org/summer-reading-club" style="box-sizing: border-box\; background-color: transparent\; color: rgb(41\, 84\, 209)\; text-decoration-line: none\;">Summer Reading Club</a>&nbsp\;at the Lake Bluff Library!</p>\n\n<p><strong>Summer Reading Club Kick-Off is for all ages</strong>.&nbsp\;<strong>Children under the age of 8 must have an adult with them during the event.</strong></p>\n
LOCATION:Lake Bluff Public Library 123 E. Scranton Ave. Lake Bluff\, IL. 60044
UID:e.1126.30982
SEQUENCE:3
DTSTAMP:20260424T081012Z
URL:https://business.lflbchamber.com/events/details/summer-reading-club-kick-off-30982
END:VEVENT

END:VCALENDAR
