BEGIN:VCALENDAR
VERSION:2.0
PRODID:-//ChamberMaster//Event Calendar 2.0//EN
METHOD:PUBLISH
X-PUBLISHED-TTL:P3D
REFRESH-INTERVAL:P3D
CALSCALE:GREGORIAN
BEGIN:VEVENT
DTSTART:20240607T150000Z
DTEND:20240607T170000Z
X-MICROSOFT-CDO-ALLDAYEVENT:FALSE
SUMMARY:Summer Reading Club Kickoff & Face Painter
DESCRIPTION:Visit the Library on Day One of this year's Summer Reading Club! Stop by the outside tent and sign up for the program. In honor of Summer Reading Club's first day\, come get your face painted! Weather permitting.
X-ALT-DESC;FMTTYPE=text/html:<span style="background-color:rgb(255\, 255\, 255)\; color:rgb(51\, 51\, 51)\; font-family:arial\,helvetica\,verdana\; font-size:14px">Visit the Library on Day One of this year&#39\;s Summer Reading Club! Stop by the outside tent and sign up for the program. In honor of Summer Reading Club&#39\;s first day\, come get your face painted! Weather permitting.</span>
LOCATION:Lake Bluff Public Library 123 E. Scranton Ave. Lake Bluff\, IL. 60044
UID:e.1126.27080
SEQUENCE:3
DTSTAMP:20260424T010725Z
URL:https://business.lflbchamber.com/events/details/summer-reading-club-kickoff-face-painter-27080
END:VEVENT

END:VCALENDAR
