BEGIN:VCALENDAR
VERSION:2.0
PRODID:-//ChamberMaster//Event Calendar 2.0//EN
METHOD:PUBLISH
X-PUBLISHED-TTL:P3D
REFRESH-INTERVAL:P3D
CALSCALE:GREGORIAN
BEGIN:VEVENT
DTSTART;VALUE=DATE:20250719
DTEND;VALUE=DATE:20250720
TRANSP:TRANSPARENT
X-MICROSOFT-CDO-ALLDAYEVENT:TRUE
SUMMARY:Summer Sale Celebration!
DESCRIPTION:Join us in enjoying SIZZLING summer savings with specials\, sales and fun -- it's about merchandise\, food and services galore!\n\n(Save the date and CLICK HERE to check for an evolving list of businesses' participation and wonderful offers!)
X-ALT-DESC;FMTTYPE=text/html:<h2 style="text-align: center\;"><strong><em>Join us in enjoying SIZZLING summer savings with specials\, sales and fun -- it&#39\;s about merchandise\, food and services galore!</em></strong></h2>\n\n<h3 style="text-align: center\;"><span style="font-size: 18px\;"><em><strong>(Save the date and <a href="https://www.lflbchamber.com/2025-summer-sale-celebration/">CLICK HERE</a> to check for an evolving list of&nbsp\;businesses&#39\; participation and wonderful offers!)</strong></em></span></h3>\n
LOCATION:
UID:e.1126.31415
SEQUENCE:3
DTSTAMP:20260424T053334Z
URL:https://business.lflbchamber.com/events/details/summer-sale-celebration-07-19-2025-31415
END:VEVENT

END:VCALENDAR
