BEGIN:VCALENDAR
VERSION:2.0
PRODID:-//ChamberMaster//Event Calendar 2.0//EN
METHOD:PUBLISH
X-PUBLISHED-TTL:P3D
REFRESH-INTERVAL:P3D
CALSCALE:GREGORIAN
BEGIN:VEVENT
DTSTART;VALUE=DATE:20250717
DTEND;VALUE=DATE:20250718
TRANSP:TRANSPARENT
X-MICROSOFT-CDO-ALLDAYEVENT:TRUE
SUMMARY:Summer Sale Celebration!
DESCRIPTION:Enjoy SIZZLING summer savings\, specials and fun!\n\n \n\nBe sure to click here for the list of wonderful stores\, restaurants and favorite businesses offering sales and specials in person and online!
X-ALT-DESC;FMTTYPE=text/html:<h2 style="box-sizing: border-box\; font-family: Poppins\, sans-serif\; line-height: 1.4\; margin-top: 20px\; margin-bottom: 10px\; font-size: 30px\; text-align: center\;"><strong style="box-sizing: border-box\;"><em style="box-sizing: border-box\;">Enjoy SIZZLING summer savings\, specials and fun!</em></strong></h2>\n\n<p style="font-size: 16px\; box-sizing: border-box\; margin: 0px 0px 10px\; font-family: Poppins\, sans-serif\;">&nbsp\;</p>\n\n<h3 style="box-sizing: border-box\; font-family: Poppins\, sans-serif\; line-height: 1.4\; margin-top: 20px\; margin-bottom: 10px\; font-size: 26px\; text-align: center\;"><em style="box-sizing: border-box\;">Be sure to <strong><u><a href="https://www.lflbchamber.com/2025-summer-sale-celebration/">click here</a>&nbsp\;</u></strong></em><em style="box-sizing: border-box\;">for the list of wonderful stores\, restaurants and favorite businesses offering sales and specials in person and online!</em></h3>\n&nbsp\;\n\n<div style="text-align: center\;">&nbsp\;</div>\n
LOCATION:
UID:e.1126.30324
SEQUENCE:3
DTSTAMP:20260424T053220Z
URL:https://business.lflbchamber.com/events/details/summer-sale-celebration-30324
END:VEVENT

END:VCALENDAR
