BEGIN:VCALENDAR
VERSION:2.0
PRODID:-//ChamberMaster//Event Calendar 2.0//EN
METHOD:PUBLISH
X-PUBLISHED-TTL:P3D
REFRESH-INTERVAL:P3D
CALSCALE:GREGORIAN
BEGIN:VEVENT
DTSTART:20240602T210000Z
DTEND:20240602T223000Z
X-MICROSOFT-CDO-ALLDAYEVENT:FALSE
SUMMARY:Sunday Afternoon Live: with Musical Guests Bela and Jim
DESCRIPTION:Have you ever heard colors before? Lake Forest's own Jim Stephenson's Colors is a musical representation of red\, blue\, green and white. Dvor k\, Brahms\, and Liszt influenced this little known yet richly scored Piano Quintet by Bart k. It is entirely post-romantic\, full of spirit and lovely tunes.
X-ALT-DESC;FMTTYPE=text/html:<p>Have you ever&nbsp\;<em>heard</em>&nbsp\;colors before? Lake Forest&#39\;s own Jim Stephenson&rsquo\;s&nbsp\;<em>Colors</em>&nbsp\;is a musical representation of red\, blue\, green and white. Dvor&aacute\;k\, Brahms\, and Liszt influenced this little known yet richly scored Piano Quintet by Bart&oacute\;k. It is entirely post-romantic\, full of spirit and lovely tunes.&nbsp\;</p>\n\n<div>&nbsp\;</div>\n
LOCATION:The Church of the Holy Spirit 400 E Westminster Lake Forest\, IL 60045
UID:e.1126.26668
SEQUENCE:3
DTSTAMP:20260424T010908Z
URL:https://business.lflbchamber.com/events/details/sunday-afternoon-live-with-musical-guests-bela-and-jim-26668
END:VEVENT

END:VCALENDAR
