BEGIN:VCALENDAR
VERSION:2.0
PRODID:-//ChamberMaster//Event Calendar 2.0//EN
METHOD:PUBLISH
X-PUBLISHED-TTL:P3D
REFRESH-INTERVAL:P3D
CALSCALE:GREGORIAN
BEGIN:VEVENT
DTSTART:20250524T193000Z
DTEND:20250525T030000Z
X-MICROSOFT-CDO-ALLDAYEVENT:FALSE
SUMMARY:Sunrise Rocks 2025
DESCRIPTION:This Memorial Day Weekend Sunrise Rocks Returns! Saturday\, May 24\, 2025   3 PM to 10 PM   Sunrise Park\, Lake Bluff Lake Bluff will ROCK once again! The 2025 Sunrise Rock concert will benefit Bluffers in Need. The event is family friendly with musical acts starting at 3 PM and culminating with The Luxmen at 8:15 PM. Visit sunriserockslb.com for more.
X-ALT-DESC;FMTTYPE=text/html:This Memorial Day Weekend Sunrise Rocks Returns! Saturday\, May 24\, 2025 &ndash\; 3 PM to 10 PM &ndash\; Sunrise Park\, Lake Bluff Lake Bluff will ROCK once again! The 2025 Sunrise Rock concert will benefit Bluffers in Need. The event is family friendly with musical acts starting at 3 PM and culminating with The Luxmen at 8:15 PM. Visit sunriserockslb.com for more.
LOCATION:Sunrise Park\, Lake Bluff
UID:e.1126.30608
SEQUENCE:3
DTSTAMP:20260424T065147Z
URL:https://business.lflbchamber.com/events/details/sunrise-rocks-2025-30608
END:VEVENT

END:VCALENDAR
