BEGIN:VCALENDAR
VERSION:2.0
PRODID:-//ChamberMaster//Event Calendar 2.0//EN
METHOD:PUBLISH
X-PUBLISHED-TTL:P3D
REFRESH-INTERVAL:P3D
CALSCALE:GREGORIAN
BEGIN:VEVENT
DTSTART:20190329T200000Z
DTEND:20190329T220000Z
X-MICROSOFT-CDO-ALLDAYEVENT:FALSE
SUMMARY:Super Smash Bros Brawl Tournament
DESCRIPTION:Ages 8-11. Get ready to SMASH! Join us for a Super Smash Brothers Brawl Tournament and prove your valor in battle!\n\nRegistration is Required.
X-ALT-DESC;FMTTYPE=text/html:Ages 8-11. Get ready to SMASH! Join us for a Super Smash Brothers Brawl Tournament and prove your valor in battle!<br />\nRegistration is Required.
LOCATION:Lake Bluff Public Library 123 E Scranton Ave. Lake Bluff\, IL 60044
UID:e.1126.17633
SEQUENCE:3
DTSTAMP:20260424T100236Z
URL:https://business.lflbchamber.com/events/details/super-smash-bros-brawl-tournament-17633
END:VEVENT

END:VCALENDAR
