BEGIN:VCALENDAR
VERSION:2.0
PRODID:-//ChamberMaster//Event Calendar 2.0//EN
METHOD:PUBLISH
X-PUBLISHED-TTL:P3D
REFRESH-INTERVAL:P3D
CALSCALE:GREGORIAN
BEGIN:VEVENT
DTSTART:20241106T180000Z
DTEND:20241106T190000Z
X-MICROSOFT-CDO-ALLDAYEVENT:FALSE
SUMMARY:Supply Chain by Amazon
DESCRIPTION:In this session\, discover how Supply Chain by Amazon brings Amazon's advanced capabilities to your entire supply chain through optimized inventory placement\, automated replenishment and reduced costs for shipping and storage. \n\n \n\nLearn about Amazon Global Logistics (AGL)\, the Partnered Carrier Program (PCP)\, Amazon Warehousing and Distribution (AWD)\, Fulfillment by Amazon (FBA)\, Multi-Channel Fulfillment (MCF) and Buy with Prime. We will also share information on Amazon's resources and programs to help small businesses succeed. \n\n \n\nSponsored by: Amazon. \n\n \n\n	\n		\n			MEET THE PRESENTER\n		\n	\n\n\n \n \n\n\n	\n		\n			Daniel Corcoran is a Public Communications Program Manager at Amazon. He focuses on driving the success of small business owners and works with teams across Amazon to deliver programs that support their continued growth.\n\n			LEARN MORE ABOUT DAN
X-ALT-DESC;FMTTYPE=text/html:<span style="color:#282829\;"><span style="font-family:lato\,sans-serif\;">In this session\, discover how Supply Chain by Amazon brings Amazon&rsquo\;s advanced capabilities to your entire supply chain through optimized inventory placement\, automated replenishment and reduced costs for shipping and storage. </span></span><br />\n&nbsp\;<br />\n<span style="color:#282829\;"><span style="font-family:lato\,sans-serif\;">Learn about Amazon Global Logistics (AGL)\, the Partnered Carrier Program (PCP)\, Amazon Warehousing and Distribution (AWD)\, Fulfillment by Amazon (FBA)\, Multi-Channel Fulfillment (MCF) and Buy with Prime. We will also share information on Amazon&#39\;s resources and programs to help small businesses succeed.&nbsp\;</span></span><br />\n&nbsp\;<br />\n<em><span style="color:#282829\;"><span style="font-family:lato\,sans-serif\;"><span style="font-size:12.0pt\;">Sponsored by: Amazon.&nbsp\;</span></span></span></em><br />\n&nbsp\;\n<table align="center" border="0" cellpadding="0" cellspacing="0" style="width:100.0%\;" width="100%">\n	<tbody>\n		<tr>\n			<td style="padding:7.5pt 15.0pt 7.5pt 7.5pt\;vertical-align:top\;"><strong><span style="color:#265288\;"><span style="font-family:lato\,sans-serif\;"><span style="font-size:13.5pt\;">MEET THE PRESENTER</span></span></span></strong></td>\n		</tr>\n	</tbody>\n</table>\n\n<div style="clear:both\;">&nbsp\;</div>\n&nbsp\;\n\n<table align="center" border="0" cellpadding="0" cellspacing="0" style="width:100.0%\;" width="100%">\n	<tbody>\n		<tr>\n			<td style="padding:7.5pt 15.0pt 7.5pt 7.5pt\;vertical-align:top\;"><span style="color:#282829\;"><span style="font-family:lato\,sans-serif\;">Daniel Corcoran is a Public Communications Program Manager at Amazon. He focuses on driving the success of small business owners and works with teams across Amazon to deliver programs that support their continued growth.</span></span><br />\n			<span style="color:#282829\;"><span style="font-family:lato\,sans-serif\;"><a href="https://f7btjwgbb.cc.rs6.net/tn.jsp?f=001NEwmKlcm9roZ1FAHbTzR0dhcXSfwbWH1Khef421RAHHPuMv1EOxzwMESS6oaEaNVjW9gUXkicIrJA6L2MaesyrJJbOiqfFMdSN-cj5fMjaC3jRJUaE1L_QtRD-49mL8x1n4hKNmxrPNgQdHvW9D3CqahLrwuK_NzQPvEQrQ2ynAkH-gJEtokjDb5FhnxDaidzxtw3aINUGDotk1Y-rsiXv6Gty_g3i454jhKJql0Ie6DW0bB8lIbQf9ETgBdQ_iuyW4xjhm1D1eIqVLIBi8tmptIV81DJrzmfETd9DyR9-tJFvlrKyZZqw==&amp\;c=t3yfHkwAuY3tTSTxNJOSUKTkHqtYLuiy2yOXzSyo_lZFGgKVI6Opiw==&amp\;ch=pS5VpjrJ0uMttz1kCLgLY0AOMxMNLN_ATk5Uo6L7kxWxl-hBCNhveg==" target="_blank"><strong><span style="text-decoration:none\;text-underline:none\;"><span style="color:#006EB7\;">LEARN MORE ABOUT DAN &gt\;</span></span></strong></a></span></span></td>\n		</tr>\n	</tbody>\n</table>\n\n<div style="clear:both\;">&nbsp\;</div>\n
LOCATION:Zoom
UID:e.1126.28986
SEQUENCE:3
DTSTAMP:20260424T094933Z
URL:https://business.lflbchamber.com/events/details/supply-chain-by-amazon-28986
END:VEVENT

END:VCALENDAR
