BEGIN:VCALENDAR
VERSION:2.0
PRODID:-//ChamberMaster//Event Calendar 2.0//EN
METHOD:PUBLISH
X-PUBLISHED-TTL:P3D
REFRESH-INTERVAL:P3D
CALSCALE:GREGORIAN
BEGIN:VEVENT
DTSTART:20231207T010000Z
DTEND:20231207T020000Z
X-MICROSOFT-CDO-ALLDAYEVENT:FALSE
SUMMARY:Surviving the Holidays with Lori Gottlieb (Online Program)
DESCRIPTION:Lori Gottlieb\, New York Times bestselling author of Maybe You Should Talk to Someone\, and co-host of the Dear Therapists podcast joins us for a thought-provoking conversation about mental health in anticipation of the winter holiday season.\n\nThis program will be recorded and available to view for a limited time after the event. You must register to receive the recording. \n\nThis event is made possible by Illinois Libraries Present\, a statewide collaboration among public libraries offering premier events. ILP is funded in part by a grant awarded by the Illinois State Library\, a department of the Office of Secretary of State\, using funds provided by the U.S. Institute of Museum and Library Services\, under the provisions of the Library Services and Technology Act (LSTA).
X-ALT-DESC;FMTTYPE=text/html:<p>Lori Gottlieb\, New York Times bestselling author of&nbsp\;<em>Maybe You Should Talk to Someone</em>\, and co-host of the&nbsp\;<em>Dear Therapists</em>&nbsp\;podcast joins us for a thought-provoking conversation about mental health in anticipation of the winter holiday season.</p>\n\n<p>This program will be recorded and available to view for a limited time after the event. You must register to receive the recording.&nbsp\;</p>\n\n<p><em>This event is made possible by Illinois Libraries Present\, a statewide collaboration among public libraries offering premier events. ILP is funded in part by a grant awarded by the Illinois State Library\, a department of the Office of Secretary of State\, using funds provided by the U.S. Institute of Museum and Library Services\, under the provisions of the Library Services and Technology Act (LSTA).&nbsp\;</em></p>\n
LOCATION:Lake Bluff Public Library 123 E. Scranton Ave. Lake Bluff\, IL. 60044
UID:e.1126.25819
SEQUENCE:3
DTSTAMP:20260424T100418Z
URL:https://business.lflbchamber.com/events/details/surviving-the-holidays-with-lori-gottlieb-online-program-25819
END:VEVENT

END:VCALENDAR
