BEGIN:VCALENDAR
VERSION:2.0
PRODID:-//ChamberMaster//Event Calendar 2.0//EN
METHOD:PUBLISH
X-PUBLISHED-TTL:P3D
REFRESH-INTERVAL:P3D
CALSCALE:GREGORIAN
BEGIN:VEVENT
DTSTART:20201113T180000Z
DTEND:20201129T180000Z
X-MICROSOFT-CDO-ALLDAYEVENT:FALSE
SUMMARY:Suzy's Swirl Seasonal Gift Card Sale
DESCRIPTION:Suzy's Swirl Seasonal Gift Card Sale - Yes\, Buy One Gift Card and Get One for FREE of Equal Value. Gift Cards are great for family\, friends\, teachers\, helpers\, and everyone else in your life for a sweet treat! We are thankful for all of our customers and this is our way of saying thank you every holiday season! We will be open ALL winter too! We are open every day until 9:00 pm!
X-ALT-DESC;FMTTYPE=text/html:Suzy&#39\;s Swirl Seasonal Gift Card Sale - Yes\, Buy One Gift Card and Get One for FREE of Equal Value. Gift Cards are great for family\, friends\, teachers\, helpers\, and everyone else in your life for a sweet treat! We are thankful for all of our customers and this is our way of saying thank you every holiday season! We will be open ALL winter too! We are open every day until 9:00 pm!
LOCATION:Suzy's Swirl - 703 Rockland Rd. Lake Bluff\, IL 60044
UID:e.1126.19778
SEQUENCE:3
DTSTAMP:20260425T160216Z
URL:https://business.lflbchamber.com/events/details/suzy-s-swirl-seasonal-gift-card-sale-19778
END:VEVENT

END:VCALENDAR
