BEGIN:VCALENDAR
VERSION:2.0
PRODID:-//ChamberMaster//Event Calendar 2.0//EN
METHOD:PUBLISH
X-PUBLISHED-TTL:P3D
REFRESH-INTERVAL:P3D
CALSCALE:GREGORIAN
BEGIN:VEVENT
DTSTART:20200317T143000Z
DTEND:20200317T153000Z
X-MICROSOFT-CDO-ALLDAYEVENT:FALSE
SUMMARY:Tai Chi-With Ken Ning
DESCRIPTION:Tai Chi is a martial art that emphasizes the weight transference to improve balance and body awareness. The relaxed\, slow\, graceful and precise body movements can enhance the strength of body and clarity of mind.
X-ALT-DESC;FMTTYPE=text/html:Tai Chi is a martial art that emphasizes the weight transference to improve balance and body awareness. The relaxed\, slow\, graceful and precise body movements can enhance the strength of body and clarity of mind.
LOCATION:Gorton Community Center
UID:e.1126.18934
SEQUENCE:3
DTSTAMP:20260420T122013Z
URL:https://business.lflbchamber.com/events/details/tai-chi-with-ken-ning-03-17-2020-18934
END:VEVENT

END:VCALENDAR
