BEGIN:VCALENDAR
VERSION:2.0
PRODID:-//ChamberMaster//Event Calendar 2.0//EN
METHOD:PUBLISH
X-PUBLISHED-TTL:P3D
REFRESH-INTERVAL:P3D
CALSCALE:GREGORIAN
BEGIN:VEVENT
DTSTART:20220916T003000Z
DTEND:20220916T020000Z
X-MICROSOFT-CDO-ALLDAYEVENT:FALSE
SUMMARY:Teen Advisory Board
DESCRIPTION:This is the virtual version of Teen Advisory Board. Join this fun group and earn volunteer hours. Meet your new favorite book\, new people\, and give us your two cents about teen services. Play a bookish guessing game for the chance to win a different prize every month!
X-ALT-DESC;FMTTYPE=text/html:<div>\n<p>This is the virtual version of Teen Advisory Board. Join this fun group and earn volunteer hours. Meet your new favorite book\, new people\, and give us your two cents about teen services. Play a bookish guessing game for the chance to win a different prize every month!&nbsp\;</p>\n</div>\n
LOCATION:Lake Bluff Public Library 123 E. Scranton Ave. Lake Bluff\, IL. 60044
UID:e.1126.20745
SEQUENCE:3
DTSTAMP:20260426T041055Z
URL:https://business.lflbchamber.com/events/details/teen-advisory-board-09-15-2022-20745
END:VEVENT

END:VCALENDAR
