BEGIN:VCALENDAR
VERSION:2.0
PRODID:-//ChamberMaster//Event Calendar 2.0//EN
METHOD:PUBLISH
X-PUBLISHED-TTL:P3D
REFRESH-INTERVAL:P3D
CALSCALE:GREGORIAN
BEGIN:VEVENT
DTSTART:20191018T003000Z
DTEND:20191018T013000Z
X-MICROSOFT-CDO-ALLDAYEVENT:FALSE
SUMMARY:Teen Advisory Board
DESCRIPTION:Join this fun group and earn volunteer hours! Meet your new favorite book\, new people\, and give us your two cents about teen services. Play a bookish guessing game for the chance to win a different prize every month! Snacks and drinks will be served.
X-ALT-DESC;FMTTYPE=text/html:<br />\nJoin this fun group and earn volunteer hours! Meet your new favorite book\, new people\, and give us your two cents about teen services. Play a bookish guessing game for the chance to win a different prize every month! Snacks and drinks will be served.
LOCATION:Lake Bluff Public Library 123 E. Scranton Ave. Lake Bluff\, IL 60044
UID:e.1126.18441
SEQUENCE:3
DTSTAMP:20260421T003010Z
URL:https://business.lflbchamber.com/events/details/teen-advisory-board-10-17-2019-18441
END:VEVENT

END:VCALENDAR
