BEGIN:VCALENDAR
VERSION:2.0
PRODID:-//ChamberMaster//Event Calendar 2.0//EN
METHOD:PUBLISH
X-PUBLISHED-TTL:P3D
REFRESH-INTERVAL:P3D
CALSCALE:GREGORIAN
BEGIN:VEVENT
DTSTART;VALUE=DATE:20190608
DTEND;VALUE=DATE:20190609
TRANSP:TRANSPARENT
X-MICROSOFT-CDO-ALLDAYEVENT:TRUE
SUMMARY:Teen Summer Reading Club Begins!
DESCRIPTION:Abracadabra! Presenting the newly revamped Teen Summer Reading Club for grades 7-12! Read three books\, turn in your log\, and receive a $5 gift card for a local hot spot like Lake Forest Bookstore\, Left Bank\, Sweet's\, Starbucks\, and more. Keep reading to continue earning $5.00 gift cards (maximum of $25.00 per reader). Additionally\, for every book you read and every teen program you attend\, you'll get a raffle ticket for a grand prize drawing of an iPod Nano.\n\nRegistration is not required.
X-ALT-DESC;FMTTYPE=text/html:<span style="color:rgb(0\, 0\, 0)\; font-family:arial\,sans-serif\; font-size:14.0085px">Abracadabra! Presenting the newly revamped Teen Summer Reading Club for grades 7-12! Read three books\, turn in your log\, and receive a $5 gift card for a local hot spot like Lake Forest Bookstore\, Left Bank\, Sweet&rsquo\;s\, Starbucks\, and more. Keep reading to continue earning $5.00 gift cards (maximum of $25.00 per reader). Additionally\, for every book you read and every teen program you attend\, you&rsquo\;ll get a raffle ticket for a grand prize drawing of an iPod Nano.<br />\nRegistration is not required.</span>
LOCATION:Lake Bluff Public Library 123 E. Scranton Avenue Lake Bluff\, IL 60044
UID:e.1126.17920
SEQUENCE:3
DTSTAMP:20260424T072713Z
URL:https://business.lflbchamber.com/events/details/teen-summer-reading-club-begins-17920
END:VEVENT

END:VCALENDAR
