BEGIN:VCALENDAR
VERSION:2.0
PRODID:-//ChamberMaster//Event Calendar 2.0//EN
METHOD:PUBLISH
X-PUBLISHED-TTL:P3D
REFRESH-INTERVAL:P3D
CALSCALE:GREGORIAN
BEGIN:VEVENT
DTSTART:20250606T163000Z
DTEND:20250606T173000Z
X-MICROSOFT-CDO-ALLDAYEVENT:FALSE
SUMMARY:"The 9 People You Need in a Small Business"
DESCRIPTION:Explore the nine key roles every small business needs to thrive\, grow stronger and avoid the pitfalls of going it alone.
X-ALT-DESC;FMTTYPE=text/html:<!--StartFragment--><span data-olk-copy-source="MessageBody" style="margin: 0px\;">Explore the nine key roles every small business needs to thrive\, grow stronger and avoid the pitfalls of going it alone.</span><!--EndFragment-->
LOCATION:Zoom
UID:e.1126.31364
SEQUENCE:3
DTSTAMP:20260424T082106Z
URL:https://business.lflbchamber.com/events/details/the-9-people-you-need-in-a-small-business-31364
END:VEVENT

END:VCALENDAR
