BEGIN:VCALENDAR
VERSION:2.0
PRODID:-//ChamberMaster//Event Calendar 2.0//EN
METHOD:PUBLISH
X-PUBLISHED-TTL:P3D
REFRESH-INTERVAL:P3D
CALSCALE:GREGORIAN
BEGIN:VEVENT
DTSTART:20250411T000000Z
DTEND:20250411T010000Z
X-MICROSOFT-CDO-ALLDAYEVENT:FALSE
SUMMARY:The Art of Foraging with Alexis Nikole Nelson (Illinois Libraries Present - Online Program)
DESCRIPTION:Alexis Nikole Nelson is a forager and an outdoor educator using her inspiring Instagram account @blackforager to celebrate all the edible plants hiding in plain sight. She peels back historical layers on African American and Indigenous food traditions that have traditionally been repressed and empowers those living in food deserts with greater self-sufficiency.\n\nRegistration is required. Please visit the ILP Registration page to register for this event.\n\nThis event will be recorded and available for 30 days after the event. You must register for the event in order to receive access to the recording.\n\nThis event is made possible by Illinois Libraries Present (ILP)\, a statewide collaboration among public libraries offering premier events. ILP is funded in part by a grant awarded by the Illinois State Library\, a department of the Office of Secretary of State\, using funds provided by the U.S. Institute of Museum and Library Services\, under the provisions of the Library Services and Technology Act (LSTA). \n\nILP is committed to inclusion and accessibility. To request accommodations\, please email illinoislibrariespresent@gmail.com
X-ALT-DESC;FMTTYPE=text/html:<p>Alexis Nikole Nelson is a forager and an outdoor educator using her inspiring Instagram account @blackforager to celebrate all the edible plants hiding in plain sight. She peels back historical layers on African American and Indigenous food traditions that have traditionally been repressed and empowers those living in food deserts with greater self-sufficiency.</p>\n\n<p>Registration is required. Please visit the&nbsp\;<a href="https://bit.ly/ILP_AlexisNikoleNelson" style="box-sizing: border-box\; background-color: transparent\; color: rgb(41\, 84\, 209)\; text-decoration-line: none\;">ILP Registration page</a>&nbsp\;to register for this event.</p>\n\n<p>This event will be recorded and available for 30 days after the event.&nbsp\;<u>You must register for the event in order to receive access to the recording.</u></p>\n\n<p><em>This event is made possible by Illinois Libraries Present (ILP)\, a statewide collaboration among public libraries offering premier events. ILP is funded in part by a grant awarded by the Illinois State Library\, a department of the Office of Secretary of State\, using funds provided by the U.S. Institute of Museum and Library Services\, under the provisions of the Library Services and Technology Act (LSTA).&nbsp\;</em></p>\n\n<p><em>ILP is committed to inclusion and accessibility. To request accommodations\, please email&nbsp\;<a href="mailto:illinoislibrariespresent@gmail.com" style="box-sizing: border-box\; background-color: transparent\; color: rgb(41\, 84\, 209)\; text-decoration-line: none\;">illinoislibrariespresent@gmail.com</a></em></p>\n
LOCATION:Lake Bluff Public Library 123 E. Scranton Ave. Lake Bluff\, IL. 60044
UID:e.1126.29986
SEQUENCE:3
DTSTAMP:20260424T041351Z
URL:https://business.lflbchamber.com/events/details/the-art-of-foraging-with-alexis-nikole-nelson-illinois-libraries-present-online-program-29986
END:VEVENT

END:VCALENDAR
