BEGIN:VCALENDAR
VERSION:2.0
PRODID:-//ChamberMaster//Event Calendar 2.0//EN
METHOD:PUBLISH
X-PUBLISHED-TTL:P3D
REFRESH-INTERVAL:P3D
CALSCALE:GREGORIAN
BEGIN:VEVENT
DTSTART:20220927T170000Z
DTEND:20220927T180000Z
X-MICROSOFT-CDO-ALLDAYEVENT:FALSE
SUMMARY:The Benefits of Pet Therapy
DESCRIPTION:Join us for a lively discussion of all the ways pets enhance our lives\, our health\, and our emotions! Science says we even live LONGER with a pet. Learn about therapy dogs and all the ways they help very diverse groups of people - from hospitals to domestic violence victims to seniors.
X-ALT-DESC;FMTTYPE=text/html:Join us for a lively discussion of all the ways pets enhance our lives\, our health\, and our emotions! Science says we even live LONGER with a pet. Learn about therapy dogs and all the ways they help very diverse groups of people - from hospitals to domestic violence victims to seniors.
LOCATION:https://us02web.zoom.us/meeting/register/tZAkfuCtqjguHNPoG2YhE44z28SJddoDlcvz
UID:e.1126.22606
SEQUENCE:3
DTSTAMP:20260426T041015Z
URL:https://business.lflbchamber.com/events/details/the-benefits-of-pet-therapy-22606
END:VEVENT

END:VCALENDAR
