BEGIN:VCALENDAR
VERSION:2.0
PRODID:-//ChamberMaster//Event Calendar 2.0//EN
METHOD:PUBLISH
X-PUBLISHED-TTL:P3D
REFRESH-INTERVAL:P3D
CALSCALE:GREGORIAN
BEGIN:VEVENT
DTSTART:20241114T003000Z
DTEND:20241114T020000Z
X-MICROSOFT-CDO-ALLDAYEVENT:FALSE
SUMMARY:The Best AI Prompts For Small Businesses
DESCRIPTION:Discover how AI prompts can transform small businesses by enhancing efficiency\, automating tasks\, and improving marketing. Led by digital marketing expert Elijah Litscher\, this workshop provides actionable AI strategies for business planning\, competitor analysis\, and marketing\, empowering owners to future-proof and elevate their operations.
X-ALT-DESC;FMTTYPE=text/html:<span style="color:#464648\;"><span style="font-family:lato\,sans-serif\;"><span style="font-size:10.0pt\;">Discover how AI prompts can transform small businesses by enhancing efficiency\, automating tasks\, and improving marketing. Led by digital marketing expert Elijah Litscher\, this workshop provides actionable AI strategies for business planning\, competitor analysis\, and marketing\, empowering owners to future-proof and elevate their operations.</span></span></span>
LOCATION:Zoom
UID:e.1126.29008
SEQUENCE:3
DTSTAMP:20260424T100613Z
URL:https://business.lflbchamber.com/events/details/the-best-ai-prompts-for-small-businesses-29008
END:VEVENT

END:VCALENDAR
