BEGIN:VCALENDAR
VERSION:2.0
PRODID:-//ChamberMaster//Event Calendar 2.0//EN
METHOD:PUBLISH
X-PUBLISHED-TTL:P3D
REFRESH-INTERVAL:P3D
CALSCALE:GREGORIAN
BEGIN:VEVENT
DTSTART:20240622T150000Z
DTEND:20240622T160000Z
X-MICROSOFT-CDO-ALLDAYEVENT:FALSE
SUMMARY:The Best Books This Summer
DESCRIPTION:Register and join your Lake Forest Librarians in person to discover new and popular titles you won't want to miss! Light refreshments will be served and attendees are entered in a drawing for a chance to win a book of their choice.
X-ALT-DESC;FMTTYPE=text/html:<span style="font-family:gotham\,sans-serif\; font-size:14px">Register and join your Lake Forest Librarians in person to discover new and popular titles you won&#39\;t want to miss! Light refreshments will be served and attendees are entered in a drawing for a chance to win a book of their choice.</span>
LOCATION:360 E Deerpath Rd Lake Forest IL 60045
UID:e.1126.26696
SEQUENCE:3
DTSTAMP:20260424T010653Z
URL:https://business.lflbchamber.com/events/details/the-best-books-this-summer-26696
END:VEVENT

END:VCALENDAR
