BEGIN:VCALENDAR
VERSION:2.0
PRODID:-//ChamberMaster//Event Calendar 2.0//EN
METHOD:PUBLISH
X-PUBLISHED-TTL:P3D
REFRESH-INTERVAL:P3D
CALSCALE:GREGORIAN
BEGIN:VEVENT
DTSTART:20190614T000000Z
DTEND:20190614T013000Z
X-MICROSOFT-CDO-ALLDAYEVENT:FALSE
SUMMARY:The Chicago Bears Centennial Scrapbook Book signing and Exhibit Opening
DESCRIPTION:Celebrate the Chicago Bears\, a National Football League charter member entering their 100th season in 2019\, with a book event and exhibit. Lake Forest resident Don Pierson and Dan Pompei\, co-authors of The Chicago Bears Centennial Scrapbook\, will participate in a discussion of franchise history. Their book contains a rare interview with 95-year-old principal owner Virginia McCaskey.
X-ALT-DESC;FMTTYPE=text/html:Celebrate the Chicago Bears\, a National Football League charter member entering their 100th season in 2019\, with a book event and exhibit. Lake Forest resident Don Pierson and Dan Pompei\, co-authors of The Chicago Bears Centennial Scrapbook\, will participate in a discussion of franchise history. Their book contains a rare interview with 95-year-old principal owner Virginia McCaskey.
LOCATION:History Center Lake Forest-Lake Bluff
UID:e.1126.17657
SEQUENCE:3
DTSTAMP:20260424T055434Z
URL:https://business.lflbchamber.com/events/details/the-chicago-bears-centennial-scrapbook-book-signing-and-exhibit-opening-17657
END:VEVENT

END:VCALENDAR
