BEGIN:VCALENDAR
VERSION:2.0
PRODID:-//ChamberMaster//Event Calendar 2.0//EN
METHOD:PUBLISH
X-PUBLISHED-TTL:P3D
REFRESH-INTERVAL:P3D
CALSCALE:GREGORIAN
BEGIN:VEVENT
DTSTART:20191004T000000Z
DTEND:20191004T010000Z
X-MICROSOFT-CDO-ALLDAYEVENT:FALSE
SUMMARY:The Codebreaker and the POW: a Family Legacy of WWII
DESCRIPTION:In 1942\, one of the darkest years of WWII\, Lt. Charles Baugh became a Navy codebreaker\, while his father\, Richmond Baugh\, was taken prisoner on Corregidor Island and sent to a Japanese POW camp. In this gripping family saga that centers on the military career of her father and grandfather\, L. Sue Baugh recounts the suffering of the Philippine people during the occupation\, the heroic work of military and civilian codebreakers\, and the brutal battle for the liberation of the Philippine Islands. Ms. Baugh's presentation is based on the newly uncovered story of her family's legacy in World War II.
X-ALT-DESC;FMTTYPE=text/html:In 1942\, one of the darkest years of WWII\, Lt. Charles Baugh became a Navy codebreaker\, while his father\, Richmond Baugh\, was taken prisoner on Corregidor Island and sent to a Japanese POW camp. In this gripping family saga that centers on the military career of her father and grandfather\, L. Sue Baugh recounts the suffering of the Philippine people during the occupation\, the heroic work of military and civilian codebreakers\, and the brutal battle for the liberation of the Philippine Islands. Ms. Baugh&#39\;s presentation is based on the newly uncovered story of her family&#39\;s legacy in World War II.
LOCATION:Lake Bluff Library 123 E. Scranton Ave.\, Lake Bluff\, IL 60044
UID:e.1126.18444
SEQUENCE:3
DTSTAMP:20260424T000516Z
URL:https://business.lflbchamber.com/events/details/the-codebreaker-and-the-pow-a-family-legacy-of-wwii-18444
END:VEVENT

END:VCALENDAR
