BEGIN:VCALENDAR
VERSION:2.0
PRODID:-//ChamberMaster//Event Calendar 2.0//EN
METHOD:PUBLISH
X-PUBLISHED-TTL:P3D
REFRESH-INTERVAL:P3D
CALSCALE:GREGORIAN
BEGIN:VEVENT
DTSTART:20200721T233000Z
DTEND:20200722T013000Z
X-MICROSOFT-CDO-ALLDAYEVENT:FALSE
SUMMARY:The Defamation Experience
DESCRIPTION:Back by popular demand! The Defamation Experience Online: An Interactive Theatre Experience Join Citadel Theatre in this interactive theatre experience\, where YOU serve as a juror. Played in four phases\, this is sure to be the perfect entertainment from the comfort of our own home! Tuesday\, July 21st\, 2020 @ 6:30PM *ONLY 50 TICKETS AVAILABLE* *ON TICKET PER COMPUTER NEEDED*
X-ALT-DESC;FMTTYPE=text/html:Back by popular demand! The Defamation Experience Online: An Interactive Theatre Experience Join Citadel Theatre in this interactive theatre experience\, where YOU serve as a juror. Played in four phases\, this is sure to be the perfect entertainment from the comfort of our own home! Tuesday\, July 21st\, 2020 @ 6:30PM *ONLY 50 TICKETS AVAILABLE* *ON TICKET PER COMPUTER NEEDED*
LOCATION:Your Home!
UID:e.1126.19513
SEQUENCE:3
DTSTAMP:20260425T223232Z
URL:https://business.lflbchamber.com/events/details/the-defamation-experience-19513
END:VEVENT

END:VCALENDAR
