BEGIN:VCALENDAR
VERSION:2.0
PRODID:-//ChamberMaster//Event Calendar 2.0//EN
METHOD:PUBLISH
X-PUBLISHED-TTL:P3D
REFRESH-INTERVAL:P3D
CALSCALE:GREGORIAN
BEGIN:VEVENT
DTSTART:20220519T140000Z
DTEND:20220519T144500Z
X-MICROSOFT-CDO-ALLDAYEVENT:FALSE
SUMMARY:The Great Resignation: What's Really Going On?
DESCRIPTION:An exploration of money myths most business leaders assume are the reason behind why workers quit or fail to apply for jobs during the pandemic\, and how to better tackle the real reasons behind labor shortages today. This workshop includes open consultation to all participants from 10 a.m. to 1 p.m.
X-ALT-DESC;FMTTYPE=text/html:An exploration of money myths most business leaders assume are the reason behind why workers quit or fail to apply for jobs during the pandemic\, and how to better tackle the real reasons behind labor shortages today. This workshop includes open consultation to all participants from 10 a.m. to 1 p.m.
LOCATION:Virtual Live
UID:e.1126.21875
SEQUENCE:3
DTSTAMP:20260420T075032Z
URL:https://business.lflbchamber.com/events/details/the-great-resignation-what-s-really-going-on-21875
END:VEVENT

END:VCALENDAR
