BEGIN:VCALENDAR
VERSION:2.0
PRODID:-//ChamberMaster//Event Calendar 2.0//EN
METHOD:PUBLISH
X-PUBLISHED-TTL:P3D
REFRESH-INTERVAL:P3D
CALSCALE:GREGORIAN
BEGIN:VEVENT
DTSTART:20200520T000000Z
DTEND:20200520T010000Z
X-MICROSOFT-CDO-ALLDAYEVENT:FALSE
SUMMARY:The Impact Exchange: Art Impact Project Speaker Series
DESCRIPTION:We ask that you join our waiting room 15-30 minutes prior to ensure that our guests are checked in and ready for the 7:00 PM start time on Zoom.
X-ALT-DESC;FMTTYPE=text/html:We ask that you join our waiting room 15-30 minutes prior to ensure that our guests are checked in and ready for the 7:00 PM start time on Zoom.
LOCATION:Zoom
UID:e.1126.19378
SEQUENCE:3
DTSTAMP:20260425T203655Z
URL:https://business.lflbchamber.com/events/details/the-impact-exchange-art-impact-project-speaker-series-19378
END:VEVENT

END:VCALENDAR
