BEGIN:VCALENDAR
VERSION:2.0
PRODID:-//ChamberMaster//Event Calendar 2.0//EN
METHOD:PUBLISH
X-PUBLISHED-TTL:P3D
REFRESH-INTERVAL:P3D
CALSCALE:GREGORIAN
BEGIN:VEVENT
DTSTART:20200314T190000Z
DTEND:20200314T203000Z
X-MICROSOFT-CDO-ALLDAYEVENT:FALSE
SUMMARY:The Iron Five: The Story of the 1963 Loyola Ramblers
DESCRIPTION:In 1963\, the Loyola Ramblers became the first team from Illinois to win the NCAA college basketball championship. But that season   against the backdrop of civil rights firestorms   they achieved another first: they became the first team in history to start a predominantly black lineup. Their story debuted at Chicago's Black Harvest Film Festival and WGN in fall of 2018\, and aired during 2019 March Madness. Liberatore and team members John Egan and Jerald Harkness will be on hand to discuss the historic season and the film.
X-ALT-DESC;FMTTYPE=text/html:In 1963\, the Loyola Ramblers became the first team from Illinois to win the NCAA college basketball championship. But that season &mdash\; against the backdrop of civil rights firestorms &mdash\; they achieved another first: they became the first team in history to start a predominantly black lineup. Their story debuted at Chicago&rsquo\;s Black Harvest Film Festival and WGN in fall of 2018\, and aired during 2019 March Madness. Liberatore and team members John Egan and Jerald Harkness will be on hand to discuss the historic season and the film.
LOCATION:Gorton Community Center
UID:e.1126.19099
SEQUENCE:3
DTSTAMP:20260420T122300Z
URL:https://business.lflbchamber.com/events/details/the-iron-five-the-story-of-the-1963-loyola-ramblers-19099
END:VEVENT

END:VCALENDAR
