BEGIN:VCALENDAR
VERSION:2.0
PRODID:-//ChamberMaster//Event Calendar 2.0//EN
METHOD:PUBLISH
X-PUBLISHED-TTL:P3D
REFRESH-INTERVAL:P3D
CALSCALE:GREGORIAN
BEGIN:VEVENT
DTSTART:20190416T233000Z
DTEND:20190417T010000Z
X-MICROSOFT-CDO-ALLDAYEVENT:FALSE
SUMMARY:The Journey of Recently Landed CRC Alumni
DESCRIPTION:Presented by: CRC Alumni\n\nAs a job seeker you receive sound advice\, learn about productive strategies\, and get encouragement from a variety of sources.  But do you ever wonder how other job seekers achieve success?  The best tips on conducting an effective job search come from individuals who have recently "landed".  These "experts" know first hand\, what it's like to be unemployed.  A panel of CRC alumni representing different disciplines\, career stages and various perspectives will share their stories and respond to your questions.  Topics addressed will include the "how to's" of a search\, plus the motivational and emotional issues encountered.
X-ALT-DESC;FMTTYPE=text/html:Presented by:&nbsp\;<span style="font-family:tahoma\,sans-serif"><span style="font-size:12.0pt">CRC Alumni<br />\nAs a job seeker you receive sound advice\, learn about productive strategies\, and get encouragement from a variety of sources.&nbsp\; But do you ever wonder how other job seekers achieve success?&nbsp\; The best tips on conducting an effective job search come from individuals who have recently &ldquo\;landed&rdquo\;.&nbsp\; These &ldquo\;experts&rdquo\; know first hand\, what it&rsquo\;s like to be unemployed.&nbsp\; A panel of CRC alumni representing different disciplines\, career stages and various perspectives will share their stories and respond to your questions.&nbsp\; Topics addressed will include the &ldquo\;how to&rsquo\;s&rdquo\; of a search\, plus the motivational and emotional issues encountered.</span></span>
LOCATION:Career Resource Center\, Inc. Grove Cultural Campus 40 E. Old Mill Road\, Suite 105 Lake Forest\, Illinois 60045
UID:e.1126.17663
SEQUENCE:3
DTSTAMP:20260424T100608Z
URL:https://business.lflbchamber.com/events/details/the-journey-of-recently-landed-crc-alumni-17663
END:VEVENT

END:VCALENDAR
