BEGIN:VCALENDAR
VERSION:2.0
PRODID:-//ChamberMaster//Event Calendar 2.0//EN
METHOD:PUBLISH
X-PUBLISHED-TTL:P3D
REFRESH-INTERVAL:P3D
CALSCALE:GREGORIAN
BEGIN:VEVENT
DTSTART:20260412T200000Z
DTEND:20260412T204500Z
X-MICROSOFT-CDO-ALLDAYEVENT:FALSE
SUMMARY:The Magic of Bubbles with Steve Belliveau
DESCRIPTION:Register and join us in person to learn about the science of bubbles with comedy magician and bubble sculptor Steve Belliveau.
X-ALT-DESC;FMTTYPE=text/html:<span style="font-family:gotham\,sans-serif\; font-size:14px">Register and join us in person to learn about the science of bubbles with comedy magician and bubble sculptor Steve Belliveau.</span>
LOCATION:Lake Forest Library 360 E Deerpath Rd Lake Forest IL 60045
UID:e.1126.33883
SEQUENCE:3
DTSTAMP:20260425T220911Z
URL:https://business.lflbchamber.com/events/details/the-magic-of-bubbles-with-steve-belliveau-33883
END:VEVENT

END:VCALENDAR
