BEGIN:VCALENDAR
VERSION:2.0
PRODID:-//ChamberMaster//Event Calendar 2.0//EN
METHOD:PUBLISH
X-PUBLISHED-TTL:P3D
REFRESH-INTERVAL:P3D
CALSCALE:GREGORIAN
BEGIN:VEVENT
DTSTART:20190314T190000Z
DTEND:20190314T200000Z
X-MICROSOFT-CDO-ALLDAYEVENT:FALSE
SUMMARY:The Magic of Miniatures: Colleen Moore's Dollhouses
DESCRIPTION:Join curator Margaret Schlesinger from the Museum of Science & Industry as she takes you on a tiny tour of Colleen Moore's enchanted Fairy Castle. Here is your chance to see inside and up close the hand-painted artwork and delicately crafted miniature artifacts as if you were 5 inches tall! You will also get a glimpse of the conservation project completed in 2014 and a "behind-the-fairytales" story of how the Castle came to be.
X-ALT-DESC;FMTTYPE=text/html:Join curator Margaret Schlesinger from the Museum of Science &amp\; Industry as she takes you on a tiny tour of Colleen Moore&rsquo\;s enchanted Fairy Castle. Here is your chance to see inside and up close the hand-painted artwork and delicately crafted miniature artifacts as if you were 5 inches tall! You will also get a glimpse of the conservation project completed in 2014 and a &ldquo\;behind-the-fairytales&rdquo\; story of how the Castle came to be.
LOCATION:Lake Bluff Library 123 E Scranton Ave.\, Lake Bluff\, IL 60044
UID:e.1126.17618
SEQUENCE:3
DTSTAMP:20260424T100614Z
URL:https://business.lflbchamber.com/events/details/the-magic-of-miniatures-colleen-moore-s-dollhouses-17618
END:VEVENT

END:VCALENDAR
