BEGIN:VCALENDAR
VERSION:2.0
PRODID:-//ChamberMaster//Event Calendar 2.0//EN
METHOD:PUBLISH
X-PUBLISHED-TTL:P3D
REFRESH-INTERVAL:P3D
CALSCALE:GREGORIAN
BEGIN:VEVENT
DTSTART:20190716T233000Z
DTEND:20190717T010000Z
X-MICROSOFT-CDO-ALLDAYEVENT:FALSE
SUMMARY:THE METALLICA SCHOLARS PROGRAM THROUGH CLC
DESCRIPTION:Presented by: Miguel Mireles\, Career Program Coordinator\, College of Lake County\n\n          Did you know that the College of Lake County offers many in-demand\, rewarding careers that you can learn in two years or less? In fact\, you can become a robotics technician in as little as nine months. From short-term certificates to associate degrees\, learn more about CLC's career programs in advanced manufacturing and transportation at the information session. Learn each career's major duties\, a typical day\, salary range\, and how to get started at CLC. Also\, learn about the many scholarships the college has to offer such as the Metallica Scholarship. The scholarship helps pay up to $1\,500 for tuition\, fees\, textbooks\, tools\, transportation\, and childcare in the following programs:\n\n  Automation\, Robotics and Mechatronics \n\n  Automotive Collision Repair \n\n  Automotive Technology \n\n  Computer Aided Design (CAD) Drafting \n\n  Computerized Numerical Control Programming\n\n  Electrical Engineering Technology \n\n  HVAC/R Engineering Technology \n\n  Laser/Photonics/Optics \n\n  Machine Tool Trades\n\n  Mechanical Engineering Technology \n\n  Welding
X-ALT-DESC;FMTTYPE=text/html:Presented by:&nbsp\;<span style="font-family:tahoma\,sans-serif"><span style="font-size:12.0pt">Miguel Mireles\, Career Program Coordinator\, College of Lake County</span></span><br />\n&nbsp\;&nbsp\;&nbsp\;&nbsp\;&nbsp\;&nbsp\;&nbsp\;&nbsp\;&nbsp\; <span style="font-family:tahoma\,sans-serif">Did you know that the College of Lake County offers many in-demand\, rewarding careers that you can learn in two years or less? In fact\, you can become a robotics technician in as little as nine months. From short-term certificates to associate degrees\, learn more about CLC&rsquo\;s career programs in advanced manufacturing and transportation at the information session. Learn each career&rsquo\;s major duties\, a typical day\, salary range\, and how to get started at CLC. Also\, learn about the many scholarships the college has to offer such as the Metallica Scholarship. The scholarship helps pay up to $1\,500 for tuition\, fees\, textbooks\, tools\, transportation\, and childcare in the following programs:</span><br />\n<span style="font-family:tahoma\,sans-serif">&bull\; Automation\, Robotics and Mechatronics </span><br />\n<span style="font-family:tahoma\,sans-serif">&bull\; Automotive Collision Repair </span><br />\n<span style="font-family:tahoma\,sans-serif">&bull\; Automotive Technology </span><br />\n<span style="font-family:tahoma\,sans-serif">&bull\; Computer Aided Design (CAD) Drafting </span><br />\n<span style="font-family:tahoma\,sans-serif">&bull\; Computerized Numerical Control Programming</span><br />\n<span style="font-family:tahoma\,sans-serif">&bull\; Electrical Engineering Technology </span><br />\n<span style="font-family:tahoma\,sans-serif">&bull\; HVAC/R Engineering Technology </span><br />\n<span style="font-family:tahoma\,sans-serif">&bull\; Laser/Photonics/Optics </span><br />\n<span style="font-family:tahoma\,sans-serif">&bull\; Machine Tool Trades</span><br />\n<span style="font-family:tahoma\,sans-serif">&bull\; Mechanical Engineering Technology </span><br />\n<span style="font-family:tahoma\,sans-serif">&bull\; Welding </span><br />\n&nbsp\;
LOCATION:Career Resource Center Grove Cultural Campus 40 E. Old Mill Road Lake Forest\, IL 60045
UID:e.1126.18040
SEQUENCE:3
DTSTAMP:20260424T043533Z
URL:https://business.lflbchamber.com/events/details/the-metallica-scholars-program-through-clc-18040
END:VEVENT

END:VCALENDAR
