BEGIN:VCALENDAR
VERSION:2.0
PRODID:-//ChamberMaster//Event Calendar 2.0//EN
METHOD:PUBLISH
X-PUBLISHED-TTL:P3D
REFRESH-INTERVAL:P3D
CALSCALE:GREGORIAN
BEGIN:VEVENT
DTSTART:20260419T170000Z
DTEND:20260419T200000Z
X-MICROSOFT-CDO-ALLDAYEVENT:FALSE
SUMMARY:The Next Movement\, In Full Bloom Spring Fundraiser
DESCRIPTION:Join us for The Next Movement\, In Full Bloom\, a joyful afternoon celebrating the power of music education in Waukegan.\n\n\n\nGuests will enjoy a delicious three-course meal at Exmoor Country Club. The event will also feature a short program highlighting Bravo Waukegan's impact\, music performed by talented Waukegan students\, and a paddle raise to support our mission of bringing music education to underserved students in Waukegan.\n\nIt's the perfect opportunity to connect\, be inspired\, and make a difference one note at a time.
X-ALT-DESC;FMTTYPE=text/html:<p>Join us for The Next Movement\, In Full Bloom\, a joyful afternoon celebrating the power of music education in Waukegan.<br />\n<br />\nGuests will enjoy a delicious three-course meal at Exmoor Country Club. The event will also feature a short program highlighting Bravo Waukegan&rsquo\;s impact\, music performed by talented Waukegan students\, and a paddle raise to support our mission of bringing music education to underserved students in Waukegan.</p>\n\n<p>It&rsquo\;s the perfect opportunity to connect\, be inspired\, and make a difference&mdash\;one note at a time.</p>\n
LOCATION:Exmoor Country Club\, 700 Vine Ave\, Highland Park\, IL 60035
UID:e.1126.33890
SEQUENCE:3
DTSTAMP:20260425T220737Z
URL:https://business.lflbchamber.com/events/details/the-next-movement-in-full-bloom-spring-fundraiser-33890
END:VEVENT

END:VCALENDAR
