BEGIN:VCALENDAR
VERSION:2.0
PRODID:-//ChamberMaster//Event Calendar 2.0//EN
METHOD:PUBLISH
X-PUBLISHED-TTL:P3D
REFRESH-INTERVAL:P3D
CALSCALE:GREGORIAN
BEGIN:VEVENT
DTSTART:20190312T230000Z
DTEND:20190313T000000Z
X-MICROSOFT-CDO-ALLDAYEVENT:FALSE
SUMMARY:The Truth About Supplements
DESCRIPTION:Dietary supplement makers offer a wide variety of products to improve your health. They have everything from Vitamin C for the common cold to glucosamine and chondroitin to ease arthritis and everything in between!\n\nOver the counter supplement manufacturers don't have to have their products approved by the FDA so how do we know what we are really buying and if we really need it?\n\nIn this eye opening talk you will learn the in's and out's of personalized nutrition and the best nutrients to improve your health without the worry of taking something that is worthless as sand or even worse could harm you. Find out whether these popular supplements are effective and safe to take!\n\nFeatured Speaker is Dr. Julie McLaughlin of McLaughlin Care!
X-ALT-DESC;FMTTYPE=text/html:<p>Dietary supplement makers offer a wide variety of products to improve your health. They have everything from Vitamin C for the common cold to glucosamine and chondroitin to ease arthritis and everything in between!</p>\n\n<p>Over the counter supplement manufacturers don&rsquo\;t have to have their products approved by the FDA so how do we know what we are really buying and if we really need it?</p>\n\n<p>In this eye opening talk you will learn the in&rsquo\;s and out&rsquo\;s of personalized nutrition and the best nutrients to improve your health without the worry of taking something that is worthless as sand or even worse could harm you.&nbsp\;Find out whether these popular supplements are effective and safe to take!<br />\nFeatured Speaker is Dr. Julie McLaughlin of McLaughlin Care!</p>\n
LOCATION:Gorton Community Center 400 E. Illinois Rd. Lake Bluff\, IL 60045
UID:e.1126.16708
SEQUENCE:3
DTSTAMP:20260424T095945Z
URL:https://business.lflbchamber.com/events/details/the-truth-about-supplements-16708
END:VEVENT

END:VCALENDAR
