BEGIN:VCALENDAR
VERSION:2.0
PRODID:-//ChamberMaster//Event Calendar 2.0//EN
METHOD:PUBLISH
X-PUBLISHED-TTL:P3D
REFRESH-INTERVAL:P3D
CALSCALE:GREGORIAN
BEGIN:VEVENT
DTSTART:20221127T050000Z
DTEND:20221126T220000Z
X-MICROSOFT-CDO-ALLDAYEVENT:FALSE
SUMMARY:Think Local Pop-Up Shop
DESCRIPTION:Looking for some great gift ideas while supporting some of the many wonderful nonprofits and charities in our community? Then stop by the Think Local Pop-Up Shop in Market Square! \n\n\n\nhttps://www.lflbchamber.com/think-local-pop-up-shop/?fl_builder\n\n \n\nThis holiday season\, the Chamber is partnering with the City of Lake Forest to present the Think Local Pop-Up Shop (formerly known as the Lake Forest Station) at 252 Market Square\, just to the left of Kiddles. In its third year\, the popular holiday shop will be open Thursdays\, Fridays\, and Saturdays from 11am-4pm through December 31st. It's a terrific opportunity to find gifts that give back ? simply purchase merchandise from one of the nonprofits represented and sale proceeds will go directly to that organization. \n\n \n\nIn the spirit of giving back\, we are also pleased to be collection site for the Marine Corps Toys for Tots holiday toy drive (new and unwrapped toys only please). You can also find holiday buttons and Chamber Checks for purchase at the Think Local Pop-Up Shop and our youngest patrons can drop off letters for Santa in our special mailbox!
X-ALT-DESC;FMTTYPE=text/html:<strong><span style="color:black\;"><span style="font-size:12.0pt\;">Looking for some great gift ideas while supporting some of the many wonderful nonprofits and charities in our community? Then stop by the&nbsp\;<em>Think Local Pop-Up Shop</em>&nbsp\;in Market Square!</span></span></strong>&nbsp\;<br>\n<br>\nhttps://www.lflbchamber.com/think-local-pop-up-shop/?fl_builder<br>\n&nbsp\;<br>\n<span style="color:black\;"><span style="font-size:12.0pt\;">This holiday season\, the Chamber is partnering with the City of Lake Forest to present the Think Local Pop-Up Shop (formerly known as the Lake Forest Station)&nbsp\;at 252 Market Square\, just to the left of Kiddles. In its third year\,&nbsp\;the popular holiday shop will be open Thursdays\, Fridays\, and Saturdays&nbsp\;from 11am-4pm&nbsp\;through December 31st. It's a terrific opportunity to find gifts that give back&nbsp\;?&nbsp\;simply&nbsp\;purchase merchandise from one of the nonprofits represented and sale proceeds will go directly to that organization.&nbsp\;</span></span><br>\n&nbsp\;<br>\n<strong><span style="color:black\;"><span style="font-family:calibri\,sans-serif\;"><span style="font-size:12.0pt\;">In the spirit of giving back\, we are also pleased to be collection site for the Marine Corps Toys for Tots holiday toy drive (new and unwrapped toys only please). You can also find holiday buttons and Chamber Checks for purchase at the&nbsp\;<em>Think Local Pop-Up Shop</em>&nbsp\;and our youngest patrons can drop off letters for Santa in our special mailbox!</span></span></span></strong>
LOCATION:252 Market Square Lake Forest\, IL 60045
UID:e.1126.23743
SEQUENCE:3
DTSTAMP:20260422T120604Z
URL:https://business.lflbchamber.com/events/details/think-local-pop-up-shop-11-26-2022-23743
END:VEVENT

END:VCALENDAR
