BEGIN:VCALENDAR
VERSION:2.0
PRODID:-//ChamberMaster//Event Calendar 2.0//EN
METHOD:PUBLISH
X-PUBLISHED-TTL:P3D
REFRESH-INTERVAL:P3D
CALSCALE:GREGORIAN
BEGIN:VEVENT
DTSTART:20231230T050000Z
DTEND:20231229T220000Z
X-MICROSOFT-CDO-ALLDAYEVENT:FALSE
SUMMARY:HOLIDAY POP-UP SHOP - Think Local!
DESCRIPTION:Looking for some great gift ideas while supporting some of the many wonderful nonprofits and charities in our community? Then stop by the Think Local Pop-Up Shop\, located at 653 Bank Lane\, just off the Square! \n\n \n\nThis holiday season\, the Chamber is partnering with the City of Lake Forest once again to present the Think Local Pop-Up Shop at a new location this year at 653 Bank Lane. In its fourth year\, the popular holiday shop will be open Thursdays\, Fridays\, and Saturdays from 11am-4pm through December 30th. It's a terrific opportunity to find gifts that give back! Simply purchase merchandise from one of the nonprofits represented and sale proceeds will go directly to that organization. \n\n \n\nCheck back for a list of participating nonprofits and other happenings at the Pop-Up Shop!
X-ALT-DESC;FMTTYPE=text/html:<strong><span style="color:black\;"><span style="font-size:12.0pt\;">Looking for some great gift ideas while supporting some of the many wonderful nonprofits and charities in our community? Then stop by the&nbsp\;<em>Think Local Pop-Up Shop\, </em>located at 653 Bank Lane\, just off the&nbsp\;Square!</span></span></strong>&nbsp\;<br />\n&nbsp\;<br />\n<font color="#000000" size="3">This holiday season\, the Chamber is partnering with the City of Lake Forest once again to present the Think Local Pop-Up Shop at a new location this <span style="caret-color: rgb(0\, 0\, 0)\;">year</span>&nbsp\;at 653 Bank Lane. In its fourth year\,&nbsp\;the popular holiday shop will be open Thursdays\, Fridays\, and Saturdays&nbsp\;from 11am-4pm&nbsp\;through December 30th. It&#39\;s a terrific opportunity to find gifts that give back! Simply&nbsp\;purchase merchandise from one of the nonprofits represented and sale proceeds will go directly to that organization.&nbsp\;</font><br />\n&nbsp\;<br />\n<strong><span style="color:black\;"><span style="font-family:calibri\,sans-serif\;"><span style="font-size:12.0pt\;">Check back for a list of participating nonprofits and other happenings at the Pop-Up Shop!</span></span></span></strong>
LOCATION:653 Bank Lane Lake Forest\, IL 60045
UID:e.1126.25717
SEQUENCE:3
DTSTAMP:20260424T100441Z
URL:https://business.lflbchamber.com/events/details/think-local-pop-up-shop-12-29-2023-25717
END:VEVENT

END:VCALENDAR
