BEGIN:VCALENDAR
VERSION:2.0
PRODID:-//ChamberMaster//Event Calendar 2.0//EN
METHOD:PUBLISH
X-PUBLISHED-TTL:P3D
REFRESH-INTERVAL:P3D
CALSCALE:GREGORIAN
BEGIN:VEVENT
DTSTART;VALUE=DATE:20190427
DTEND;VALUE=DATE:20190428
TRANSP:TRANSPARENT
X-MICROSOFT-CDO-ALLDAYEVENT:TRUE
SUMMARY:Third Annual Indie Bookstore Crawl
DESCRIPTION:Third Annual Indie Bookstore Crawl\,\n\ncalled the #ChiLoveBooks Challenge\,\n\non Independent Bookstore Day - Saturday\, April 27\, 2019\n\n \n\nChicago\, April 1\, 2019    Yet again\, Chicagoland proves itself to be the dream destination for book lovers and readers of all ages! More than two dozen independent bookstores in the greater Chicago area from Lake Forest to Beverly\, and Naperville to the Loop are collaborating on a third annual #ChiLoveBooks Challenge\, which encourages book lovers to indulge in bookstore tourism by visiting 10 or more stores in a single day.    \n\n \n\nThe annual challenge is being held again on Independent Bookstore Day (IBD)\, which is a one-day national party celebrating indie book stores on the last Saturday in April. Each store creates its own unique events including guest authors\, special kids' story times\, readings\, contests\, giveaways\, and special sales.\n\n \n\nTo begin their trip\, readers can pick up a #ChiLoveBooks passport and their first stamp with an initial purchase of $25 or more from the store of their choice. \n\nAdditional bookstore visits throughout the day (no purchase required) enable them to collect an additional stamp at each subsequent bookstore. The payoff comes for visits at the following levels:\n\n	Visit TEN stores in one day and get 10% off at all bookstores listed below for an ENTIRE YEAR!\n	Visit FIFTEEN stores in one day and get 15% off at all bookstores listed below for an ENTIRE YEAR!  \n\n \n\nAlso\, readers are encouraged to post a snapshot of themselves and their Independent Bookstore Day haul on #ChiLoveBooks.\n\n \n\nThe #ChiLoveBooks Challenge is being sponsored by the Chicagoland Independent Bookstore Allliance (ChIBA)\, an association formed in 2016 to raise awareness about the vitality of the area's indie stores\, and the Great Lakes Independent Booksellers Association (GLIBA).
X-ALT-DESC;FMTTYPE=text/html:<strong><span style="color:black"><span style="font-family:calibri">Third Annual Indie Bookstore Crawl\,<br />\ncalled the #</span></span></strong><strong><span style="color:#222222"><span style="font-family:calibri">ChiLoveBooks</span></span></strong> <strong><span style="color:black"><span style="font-family:calibri">Challenge\,<br />\non Independent Bookstore Day - Saturday\, April 27\, 2019</span></span></strong><br />\n&nbsp\;<br />\n<span style="font-family:calibri">Chicago\, April 1\, 2019 &nbsp\;&ndash\; </span><span style="color:#222222"><span style="font-family:calibri">Yet again\, Chicagoland proves itself to be the dream destination for book lovers and readers of all ages! More than two dozen independent bookstores in the greater Chicago area&mdash\;from Lake Forest to Beverly\, and Naperville to the Loop&mdash\;are collaborating on a third annual&nbsp\;</span></span><strong><span style="color:#222222"><span style="font-family:calibri">#ChiLoveBooks</span></span></strong> <strong><span style="color:#444444"><span style="font-family:calibri">Challenge</span></span></strong><span style="color:#444444"><span style="font-family:calibri">\, which encourages book lovers to indulge in bookstore tourism by visiting 10 or more stores in a single day. &nbsp\;&nbsp\;&nbsp\;</span></span><br />\n&nbsp\;<br />\n<span style="color:#222222"><span style="font-family:calibri">The annual challenge is being held again on Independent Bookstore Day (IBD)\, which is</span></span><span style="color:#444444"><span style="font-family:calibri">&nbsp\;a one-day national party celebrating indie book stores on the last Saturday in April. Each store creates its own unique events&mdash\;including guest authors\, special kids&rsquo\; story times\, readings\, contests\, giveaways\, and special sales.</span></span><br />\n&nbsp\;<br />\n<span style="color:#444444"><span style="font-family:calibri">To begin their trip\, readers can pick up a </span></span><span style="color:#222222"><span style="font-family:calibri">#ChiLoveBooks</span></span><span style="color:#444444"><span style="font-family:calibri"> passport and their first stamp with an initial purchase of $25 or more from the store of their choice.&nbsp\;</span></span><br />\n<span style="color:#444444"><span style="font-family:calibri">Additional bookstore visits throughout the day (no purchase required) enable them to collect an additional stamp at each subsequent bookstore. The payoff comes for visits at the following levels:</span></span>\n<ul>\n	<li><span style="color:#444444"><span style="font-family:calibri">Visit TEN stores in one day and get 10% off at <u>all</u> bookstores listed below for an ENTIRE YEAR!</span></span></li>\n	<li><span style="color:#444444"><span style="font-family:calibri">Visit FIFTEEN stores in one day and get 15% off at <u>all</u> bookstores listed below for an ENTIRE YEAR! &nbsp\;</span></span></li>\n</ul>\n&nbsp\;<br />\n<span style="color:black"><span style="font-family:calibri">Also\, readers are encouraged to post a snapshot of themselves and their Independent Bookstore Day haul on </span></span><span style="color:#222222"><span style="font-family:calibri">#ChiLoveBooks</span></span><span style="font-family:calibri">.</span><br />\n&nbsp\;<br />\n<span style="color:black"><span style="font-family:calibri">The </span></span><span style="color:#222222"><span style="font-family:calibri">#ChiLoveBooks</span></span><span style="color:black"><span style="font-family:calibri"> Challenge is being sponsored by the Chicagoland Independent Bookstore Allliance (ChIBA)\, an association formed in 2016 to raise awareness about the vitality of the area&rsquo\;s indie stores\, and the </span></span><span style="font-family:calibri">Great Lakes Independent Booksellers Association (GLIBA)</span><span style="color:black"><span style="font-family:calibri">.&nbsp\;</span></span>
LOCATION:See Press Release
UID:e.1126.17701
SEQUENCE:3
DTSTAMP:20260424T100118Z
URL:https://business.lflbchamber.com/events/details/third-annual-indie-bookstore-crawl-17701
END:VEVENT

END:VCALENDAR
