BEGIN:VCALENDAR
VERSION:2.0
PRODID:-//ChamberMaster//Event Calendar 2.0//EN
METHOD:PUBLISH
X-PUBLISHED-TTL:P3D
REFRESH-INTERVAL:P3D
CALSCALE:GREGORIAN
BEGIN:VEVENT
DTSTART:20190423T233000Z
DTEND:20190424T010000Z
X-MICROSOFT-CDO-ALLDAYEVENT:FALSE
SUMMARY:TIPS FOR WORKING WITH AN EXECUTIVE RECRUITER
DESCRIPTION:Presented by: Ron Moskal\, President\, The HR Project Group   Pharmaceutical & Medical Recruiting\n\nMany job seekers are likely to work with a recruiter but are unsure of how the process works. Ron\, an Executive Recruiter\, will share his experience on both sides of the coin - working with the employer side as well as with the candidate. He will provide tips from his experience and what you should know about preparing for the "Event Interview".\n\nRon\, a Deerfield resident\, is an Executive Recruiter mainly focusing in the Medical and Pharmaceutical but works within other industries as well.\n\nBefore starting his own company\, The HR Project Group\, he worked for Ford Motor Company in Dearborn\, Michigan\, Tenneco Corporate in Houston\, Texas\, Monsanto in Austin\, Texas\, and Searle Pharmaceuticals in Skokie\, Illinois.
X-ALT-DESC;FMTTYPE=text/html:Presented by:&nbsp\;<span style="font-family:tahoma\,sans-serif">Ron Moskal\, President\, The HR Project Group &ndash\; Pharmaceutical &amp\; Medical Recruiting<br />\nMany job seekers are likely to work with a recruiter but are unsure of how the process works. Ron\, an Executive Recruiter\, will share his experience on both sides of the coin - working with the employer side as well as with the candidate. He will provide tips from his experience and what you should know about preparing for the &quot\;Event Interview&quot\;.</span><br />\n<span style="font-family:tahoma\,sans-serif">Ron\, a Deerfield resident\, is an Executive Recruiter mainly focusing in the Medical and Pharmaceutical but&nbsp\;works within&nbsp\;other industries as well.</span><br />\n<span style="font-family:tahoma\,sans-serif">Before starting his own company\, The HR Project Group\, he worked for Ford Motor Company in Dearborn\, Michigan\, Tenneco Corporate in Houston\, Texas\, Monsanto in Austin\, Texas\, and Searle Pharmaceuticals in Skokie\, Illinois.</span><br />\n&nbsp\;
LOCATION:Career Resource Center Grove Cultural Campus 40 E. Old Mill Road Lake Forest\, IL 60045
UID:e.1126.17670
SEQUENCE:3
DTSTAMP:20260424T100020Z
URL:https://business.lflbchamber.com/events/details/tips-for-working-with-an-executive-recruiter-17670
END:VEVENT

END:VCALENDAR
