BEGIN:VCALENDAR
VERSION:2.0
PRODID:-//ChamberMaster//Event Calendar 2.0//EN
METHOD:PUBLISH
X-PUBLISHED-TTL:P3D
REFRESH-INTERVAL:P3D
CALSCALE:GREGORIAN
BEGIN:VEVENT
DTSTART:20260501T000000Z
DTEND:20260501T010000Z
X-MICROSOFT-CDO-ALLDAYEVENT:FALSE
SUMMARY:Top 10 Dos & Don'ts for Preserving Family Memorabilia
DESCRIPTION:Register and join genealogist Katherine Wilson on Zoom to learn how to care for heirlooms and keepsakes so they can be enjoyed by future generations. Explore the best (and worst) methods for storing paper\, photographs\, textiles\, audio recordings\, and digital photos.
X-ALT-DESC;FMTTYPE=text/html:<span style="font-family:gotham\,sans-serif\; font-size:14px">Register and join genealogist Katherine Wilson on Zoom to learn how to care for heirlooms and keepsakes so they can be enjoyed by future generations. Explore the best (and worst) methods for storing paper\, photographs\, textiles\, audio recordings\, and digital photos.</span>
LOCATION:Lake Forest Library 360 E Deerpath Rd Lake Forest IL 60045
UID:e.1126.33888
SEQUENCE:3
DTSTAMP:20260425T221044Z
URL:https://business.lflbchamber.com/events/details/top-10-dos-don-ts-for-preserving-family-memorabilia-33888
END:VEVENT

END:VCALENDAR
