BEGIN:VCALENDAR
VERSION:2.0
PRODID:-//ChamberMaster//Event Calendar 2.0//EN
METHOD:PUBLISH
X-PUBLISHED-TTL:P3D
REFRESH-INTERVAL:P3D
CALSCALE:GREGORIAN
BEGIN:VEVENT
DTSTART:20250522T230000Z
DTEND:20250523T000000Z
X-MICROSOFT-CDO-ALLDAYEVENT:FALSE
SUMMARY:Travelogue for China and Taiwan
DESCRIPTION:Join us for a travelogue exploring China and Taiwan\, hosted by cultural consultant Yvonne Wolf\, who has traveled and lived in these two Chinese-speaking countries. Yvonne will guide you through key destinations\, share cultural insights\, provide tips and recommendations\, and highlight the best-value experiences. With her expertise\, she'll help prepare you for navigating East Asia\, where everything operates according to Asian logic.
X-ALT-DESC;FMTTYPE=text/html:<span style="background-color:rgb(255\, 255\, 255)\; color:rgb(51\, 51\, 51)\; font-family:arial\,helvetica\,verdana\; font-size:14px">Join us for a travelogue exploring China and Taiwan\, hosted by cultural consultant Yvonne Wolf\, who has traveled and lived in these two Chinese-speaking countries. Yvonne will guide you through key destinations\, share cultural insights\, provide tips and recommendations\, and highlight the best-value experiences. With her expertise\, she&rsquo\;ll help prepare you for navigating East Asia\, where everything operates according to Asian logic.</span>
LOCATION:Lake Bluff Public Library 123 E. Scranton Ave. Lake Bluff\, IL. 60044
UID:e.1126.29995
SEQUENCE:3
DTSTAMP:20260424T053425Z
URL:https://business.lflbchamber.com/events/details/travelogue-for-china-and-taiwan-29995
END:VEVENT

END:VCALENDAR
