BEGIN:VCALENDAR
VERSION:2.0
PRODID:-//ChamberMaster//Event Calendar 2.0//EN
METHOD:PUBLISH
X-PUBLISHED-TTL:P3D
REFRESH-INTERVAL:P3D
CALSCALE:GREGORIAN
BEGIN:VEVENT
DTSTART:20240611T000000Z
DTEND:20240611T020000Z
X-MICROSOFT-CDO-ALLDAYEVENT:FALSE
SUMMARY:Trivia Night at the Lake Bluff Brewing Company
DESCRIPTION:Register your team of up to 6 people for a night of Trivia at Lake Bluff Brewing Company. Registration opens on Tuesday June 4th at 7:00pm.\n\nTo Register: Reserve a single spot for your team\, then tell us how many people total are on your team in the registration questions. Please note that there is a limit of 6 people per team\; teams with more than 6 people will be split up or will be ineligible for a prize.
X-ALT-DESC;FMTTYPE=text/html:<p>Register your team of&nbsp\;<u><em><strong>up to 6&nbsp\;people</strong></em></u>&nbsp\;for a night of Trivia at Lake Bluff Brewing Company. Registration opens on Tuesday June 4th at 7:00pm.</p>\n\n<p><u><strong>To Register:</strong></u>&nbsp\;Reserve&nbsp\;a single spot for your team\, then tell us how many people total are on your team&nbsp\;in the registration questions. Please note that there is a limit of 6&nbsp\;people per team\; teams with more than 6&nbsp\;people will be split up or will be ineligible for a prize.</p>\n
LOCATION:Lake Bluff Brewing Company 16 E. Scranton Ave. Lake Bluff\, IL. 60044
UID:e.1126.27108
SEQUENCE:3
DTSTAMP:20260424T010756Z
URL:https://business.lflbchamber.com/events/details/trivia-night-at-the-lake-bluff-brewing-company-27108
END:VEVENT

END:VCALENDAR
